BEGIN:VCALENDAR
VERSION:2.0
PRODID:-//hacksw/handcal//NONSGML v1.0//EN
CALSCALE:GREGORIAN
BEGIN:VEVENT
ORGANIZER;CN=Tigo Energy, Inc.:MAILTO:no-reply@gcs-web.com
DTEND:
UID:515bf0e2-d576-454a-9f3f-e30aeecfb1d9
DTSTAMP:1777042684
LOCATION:https://edge.media-server.com/mmc/p/68gybmp8
DESCRIPTION:Event Details https://investors.tigoenergy.com/events/event-details/tigo-energy-inc-fiscal-first-quarter-2026-earnings-call\n\nWebcast: https://edge.media-server.com/mmc/p/68gybmp8
URL;VALUE=URI:https://edge.media-server.com/mmc/p/68gybmp8
SUMMARY:Tigo Energy, Inc. - Tigo Energy, Inc. Fiscal First Quarter 2026 Earnings Call
DTSTART:20260505T203000Z
END:VEVENT
END:VCALENDAR